Workbook

Sheet 加盟申請書
G1: 学ク実同 | H1: 番号 | I1: 加盟団体略称
A2: 横須賀市テニス協会加盟申請書
D3: 年度（ 新規・継続 ）
F4: 例： | G4: 実 | H4: 9 | I4: 市役所
A5: 横 須 賀 市 テ ニ ス 協 会 宛
F6: 申請日： | G6: =C3 -> 0 | J6: 月 | L6: 日
E7: ☆ | F7: 団体名称：
E8: 団体名略称：
E9: 代表者氏名：
F10: 自宅TEL：
F11: 携帯TEL：
F13: 専用コ－ト： | G13: 有り | I13: 人工芝： | L13: 面
G14: 無し | I14: クレイ： | L14: 面
I15: ハード： | L15: 面
A16: 横須賀市テニス協会に加盟したく名簿を付して申請します。
A17: 加盟後は協会の規約に基づきテニスの振興と協会の発展に協力すると共に会員相互の親睦を図ります。
A18: 尚、当団体から次の者を評議員として派遣します。
B19: ☆ | C19: 評 議 員 氏 名：
C20: （自 宅） | D20: 郵便番号：
D21: 住 所：
C22: （連絡先） | D22: 自宅TEL：
D23: 携帯TEL：
B24: 必須： | C24: メールアドレス１： （パソコン） | G24: ＠
C25: メールアドレス２： （携帯可） | G25: ＠
E26: （注）評議員連絡用パソコンメールアドレスを記載願います。
B27: ☆ | C27: 連絡用メールアドレス（２ケ所まで追加可：携帯メールも可）
D28: １． | G28: ＠
D29: ２． | G29: ＠
A31: メールアドレスに変更がある場合は yokosuka_tennis@yahoo.co.jp まで連絡願います。
D32: （一般） | H32: （ジュニア・１８歳以下）
B33: 加盟人員 | C33: （男性） | E33: 名 | H33: （男性） | J33: 名
C34: （女性） | E34: 名 | H34: （女性） | J34: 名
H35: （注）ジュニアの加盟費は無料です）
B36: 加盟費合計 | D36: =IF(SUM(D33:D34)=0,"",SUM(D33:D34)*500) | E36: 円 ５００円／人
B38: 県への加盟費 | E38: 円 ７，０００円／団体 | H38: 合計 | I38: =IF(SUM(D36:D38)=0,"",SUM(D36:D38))
I40: 自動計算
A43: 加盟費は会長杯大会の参加費と共に銀行振込みでお願いします。

Sheet 男性
A1: 加盟員名簿 | C1: （男性） | U1: 学ク実同 | V1: 番号 | W1: 加盟団体略称
B2: =加盟申請書!C3 -> 0 | C2: 年度 | U2: =IF(加盟申請書!G2="","",加盟申請書!G2) | V2: =IF(加盟申請書!H2="","",加盟申請書!H2) | W2: =IF(加盟申請書!I2="","",加盟申請書!I2)
U3: （注）加盟申請書の記入が反映されます。
C4: ＊１ | F4: 自動計算 | V4: =加盟申請書!C3 -> 0 | W4: 月 | X4: 日
A5: No. | B5: 氏 名 | C5: 現級 | D5: 生年月日 | F5: 年齢 | G5: 小学生 | H5: 中学生 | I5: 高校生 | J5: 大学生 | K5: 一般 | L5: ３５歳 | M5: ４０歳 | N5: ４５歳 | O5: ５０歳 | P5: ５５歳 | Q5: ６０歳 | R5: ６５歳 | S5: ７０歳 | T5: ７５歳 | U5: 住 所 | V5: 上段：自宅住所 | X5: 上段：自宅電話*３
C6: A/B/C | D6: (西暦) | E6: (月日) | F6: (年末) | G6: -12 | H6: 13-15 | I6: 16-18 | J6: 19-22 | K6: 23-34 | L6: 35-39 | M6: 40-44 | N6: 45-49 | O6: 50-54 | P6: 55-59 | Q6: 60-64 | R6: 65-69 | S6: 70-74 | T6: 75- | U6: （市から記入） | V6: 下段：勤務先名称＊２ | X6: 下段：携帯電話
A7: 例 | B7: よこすかたろう | C7: Ｂ | D7: 1952 | E7: 3.19 | F7: =$B$2-D7 -> -1952 | U7: 横須賀市本町１－１ | X7: 046-999-9999
B8: 横須賀太郎 | U8: 横須賀工業*２ | X8: 090-1111-1111
A9: 1
A11: 2
A13: 3
A15: 4
A17: 5
A19: 6
A21: 7
A23: 8
A25: 9
A27: 10
A29: 11
A31: 12
... A47: 20
D49: 合計 | G49: =SUM(G9:G48) -> 0 | H49: =SUM(H9:H48) -> 0 | I49: =SUM(I9:I48) -> 0 | J49: =SUM(J9:J48) -> 0 | K49: =SUM(K9:K48) -> 0 | L49: =SUM(L9:L48) -> 0 | M49: =SUM(M9:M48) -> 0 | N49: =SUM(N9:N48) -> 0 | ... T49: =SUM(T9:T48) -> 0
A51: (注) | B51: ＊１．「現級」欄には、現在の会長杯のクラス（Ａ、Ｂ、Ｃ級）を記入して下さい。
B52: ＊２．加盟する実業団/学校に勤務、クラブに所属している場合、記入は不要です。
B53: ＊３．事務処理上連絡が必要な場合がありますので、自宅／携帯電話番号は必ず記入して下さい。
B54: ＊４．男性と女性で別用紙に記入して下さい。

Sheet 女性
A1: 加盟員名簿 | C1: （女性） | U1: 学ク実同 | V1: 番号 | W1: 加盟団体略称
B2: =加盟申請書!C3 -> 0 | C2: 年度 | U2: =IF(加盟申請書!G2="","",加盟申請書!G2) | V2: =IF(加盟申請書!H2="","",加盟申請書!H2) | W2: =IF(加盟申請書!I2="","",加盟申請書!I2)
U3: （注）加盟申請書の記入が反映されます。
C4: ＊１ | F4: 自動計算 | V4: =加盟申請書!C3 -> 0 | W4: 月 | X4: 日
A5: No. | B5: 氏 名 | C5: 現級 | D5: 生年月日 | F5: 年齢 | G5: 小学生 | H5: 中学生 | I5: 高校生 | J5: 大学生 | K5: 一般 | L5: ３５歳 | M5: ４０歳 | N5: ４５歳 | O5: ５０歳 | P5: ５５歳 | Q5: ６０歳 | R5: ６５歳 | S5: ７０歳 | T5: ７５歳 | U5: 住 所 | V5: 上段：自宅住所 | X5: 上段：自宅電話*３
C6: A/B/C | D6: (西暦) | E6: (月日) | F6: (年末) | G6: -12 | H6: 13-15 | I6: 16-18 | J6: 19-22 | K6: 23-34 | L6: 35-39 | M6: 40-44 | N6: 45-49 | O6: 50-54 | P6: 55-59 | Q6: 60-64 | R6: 65-69 | S6: 70-74 | T6: 75- | U6: （市から記入） | V6: 下段：勤務先名称＊２ | X6: 下段：携帯電話
A7: 例 | B7: よこすかはなこ | C7: Ｂ | D7: 1952 | E7: 3.19 | F7: =$B$2-D7 -> -1952 | U7: 横須賀市本町１－１ | X7: 046-999-9999
B8: 横須賀花子 | U8: 横須賀工業*２ | X8: 090-1111-1111
A9: 1
A11: 2
A13: 3
A15: 4
A17: 5
A19: 6
A21: 7
A23: 8
A25: 9
A27: 10
A29: 11
A31: 12
... A47: 20
D49: 合計 | G49: =SUM(G9:G48) -> 0 | H49: =SUM(H9:H48) -> 0 | I49: =SUM(I9:I48) -> 0 | J49: =SUM(J9:J48) -> 0 | K49: =SUM(K9:K48) -> 0 | L49: =SUM(L9:L48) -> 0 | M49: =SUM(M9:M48) -> 0 | N49: =SUM(N9:N48) -> 0 | ... T49: =SUM(T9:T48) -> 0
A51: (注) | B51: ＊１．「現級」欄には、現在の会長杯のクラス（Ａ、Ｂ、Ｃ級）を記入して下さい。
B52: ＊２．加盟する実業団/学校に勤務、クラブに所属している場合、記入は不要です。
B53: ＊３．事務処理上連絡が必要な場合がありますので、自宅／携帯電話番号は必ず記入して下さい。
B54: ＊４．男性と女性で別用紙に記入して下さい。
